BEGIN:VCALENDAR
VERSION:2.0
PRODID:-//Gemeinsam Leben - Gemeinsam Lernen e.V. - ECPv6.15.20//NONSGML v1.0//EN
CALSCALE:GREGORIAN
METHOD:PUBLISH
X-ORIGINAL-URL:https://gemeinsamleben-fulda.de
X-WR-CALDESC:Veranstaltungen für Gemeinsam Leben - Gemeinsam Lernen e.V.
REFRESH-INTERVAL;VALUE=DURATION:PT1H
X-Robots-Tag:noindex
X-PUBLISHED-TTL:PT1H
BEGIN:VTIMEZONE
TZID:Europe/Berlin
BEGIN:DAYLIGHT
TZOFFSETFROM:+0100
TZOFFSETTO:+0200
TZNAME:CEST
DTSTART:20240331T010000
END:DAYLIGHT
BEGIN:STANDARD
TZOFFSETFROM:+0200
TZOFFSETTO:+0100
TZNAME:CET
DTSTART:20241027T010000
END:STANDARD
BEGIN:DAYLIGHT
TZOFFSETFROM:+0100
TZOFFSETTO:+0200
TZNAME:CEST
DTSTART:20250330T010000
END:DAYLIGHT
BEGIN:STANDARD
TZOFFSETFROM:+0200
TZOFFSETTO:+0100
TZNAME:CET
DTSTART:20251026T010000
END:STANDARD
BEGIN:DAYLIGHT
TZOFFSETFROM:+0100
TZOFFSETTO:+0200
TZNAME:CEST
DTSTART:20260329T010000
END:DAYLIGHT
BEGIN:STANDARD
TZOFFSETFROM:+0200
TZOFFSETTO:+0100
TZNAME:CET
DTSTART:20261025T010000
END:STANDARD
END:VTIMEZONE
BEGIN:VEVENT
DTSTART;VALUE=DATE:20250609
DTEND;VALUE=DATE:20250610
DTSTAMP:20260424T134305
CREATED:20241106T152808Z
LAST-MODIFIED:20241218T103552Z
UID:10000054-1749427200-1749513599@gemeinsamleben-fulda.de
SUMMARY:Die Geschäftsstelle bleibt geschlossen
DESCRIPTION:Liebe Homepagebesucherinnen und Besucher\, \nan Pfingsten bleibt die Geschäftsstelle von Gemeinsam Leben – Gemeinsam Lernen e.V. geschlossen. \nWir wünschen Ihnen einen schönen Feiertag.
URL:https://gemeinsamleben-fulda.de/event/die-geschaeftsstelle-bleibt-geschlossen-5/
CATEGORIES:Schließzeiten
ATTACH;FMTTYPE=image/png:https://gemeinsamleben-fulda.de/wp-content/uploads/2024/11/Kopie-von-Einladung-Helferfest-Freizeiten-2024.png
ORGANIZER;CN="Gemeinsam Leben - Gemeinsam Lernen e.V.":MAILTO:info@gemeinsamleben-fulda.de
END:VEVENT
BEGIN:VEVENT
DTSTART;VALUE=DATE:20250619
DTEND;VALUE=DATE:20250621
DTSTAMP:20260424T134305
CREATED:20241106T152932Z
LAST-MODIFIED:20241218T103542Z
UID:10000055-1750291200-1750463999@gemeinsamleben-fulda.de
SUMMARY:Die Geschäftsstelle bleibt geschlossen
DESCRIPTION:Liebe Homepagebesucherinnen und Besucher\, \nan Fronleichnam und dem angrenzenden Brückentag bleibt die Geschäftsstelle von Gemeinsam Leben – Gemeinsam Lernen e.V. geschlossen. \nWir wünschen Ihnen einen schönen Feiertag.
URL:https://gemeinsamleben-fulda.de/event/die-geschaeftsstelle-bleibt-geschlossen-6/
CATEGORIES:Schließzeiten
ATTACH;FMTTYPE=image/png:https://gemeinsamleben-fulda.de/wp-content/uploads/2024/11/Kopie-von-Einladung-Helferfest-Freizeiten-2024.png
ORGANIZER;CN="Gemeinsam Leben - Gemeinsam Lernen e.V.":MAILTO:info@gemeinsamleben-fulda.de
END:VEVENT
END:VCALENDAR