BEGIN:VCALENDAR
VERSION:2.0
PRODID:-//Gemeinsam Leben - Gemeinsam Lernen e.V. - ECPv6.15.20//NONSGML v1.0//EN
CALSCALE:GREGORIAN
METHOD:PUBLISH
X-ORIGINAL-URL:https://gemeinsamleben-fulda.de
X-WR-CALDESC:Veranstaltungen für Gemeinsam Leben - Gemeinsam Lernen e.V.
REFRESH-INTERVAL;VALUE=DURATION:PT1H
X-Robots-Tag:noindex
X-PUBLISHED-TTL:PT1H
BEGIN:VTIMEZONE
TZID:Europe/Berlin
BEGIN:DAYLIGHT
TZOFFSETFROM:+0100
TZOFFSETTO:+0200
TZNAME:CEST
DTSTART:20250330T010000
END:DAYLIGHT
BEGIN:STANDARD
TZOFFSETFROM:+0200
TZOFFSETTO:+0100
TZNAME:CET
DTSTART:20251026T010000
END:STANDARD
BEGIN:DAYLIGHT
TZOFFSETFROM:+0100
TZOFFSETTO:+0200
TZNAME:CEST
DTSTART:20260329T010000
END:DAYLIGHT
BEGIN:STANDARD
TZOFFSETFROM:+0200
TZOFFSETTO:+0100
TZNAME:CET
DTSTART:20261025T010000
END:STANDARD
BEGIN:DAYLIGHT
TZOFFSETFROM:+0100
TZOFFSETTO:+0200
TZNAME:CEST
DTSTART:20270328T010000
END:DAYLIGHT
BEGIN:STANDARD
TZOFFSETFROM:+0200
TZOFFSETTO:+0100
TZNAME:CET
DTSTART:20271031T010000
END:STANDARD
END:VTIMEZONE
BEGIN:VEVENT
DTSTART;TZID=Europe/Berlin:20261029T093000
DTEND;TZID=Europe/Berlin:20261029T113000
DTSTAMP:20260422T142856
CREATED:20260128T081607Z
LAST-MODIFIED:20260128T081607Z
UID:10000098-1793266200-1793273400@gemeinsamleben-fulda.de
SUMMARY:Keine Grenzen: Außenberatung Hilders
DESCRIPTION:Die Beratungsstelle bietet einmal monatlich eine Außenberatung im Familienzentrum „Treffpunkt Handwerkerhof“ in Hilders an.\n\nJeden letzten Donnerstag des Monats von 9:30 – 11:30 Uhr\n\n\n\n\n\n\n\n\n\n\n  \nFür wen ist die Beratung? \nFür Menschen mit körperlichen\, seelischen oder geistigen Beeinträchtigungen – auch wenn die Beeinträchtigung erst droht. Auch Angehörige können kommen. \nWobei wir helfen: \n\nBeim Ausfüllen von Anträgen (z. B. Pflegekasse\, Grad der Behinderung)\nWenn Sie ein Assistenzangebot suchen\nWenn Sie Hilfe beim Wohnen brauchen\nBei der Vorbereitung von Gesprächen mit Ämtern oder Behörden\nWenn Sie nicht wissen\, wo Sie Hilfe finden können\n\n\nDie Beratung ist: kostenfrei\, individuell und auf Augenhöhe\n\nWichtig: Rechtsberatung (im Sinne des Rechtsdienstleistungsgesetztes) und Begleitung im Widerspruchs- und Klageverfahren werden nicht angeboten.\n\n\nDie Außenberatung findet nur nach Bedarf statt. Daher wird um vorherige Anmeldung gebeten. Termine können telefonisch (0661-480 17 79 30) oder per Mail (beratung@gemeinsamleben-fulda.de) vereinbart werden.
URL:https://gemeinsamleben-fulda.de/event/aussenberatung-der-beratungsstelle-keine-grenzen-in-hilders-im-oktober/
LOCATION:Caritas Familienzentrum – Treffpunkt Handwerkerhof\, Marienstraße 3\, Hilders\, 36115\, Germany
CATEGORIES:Beratungsstelle "Keine Grenzen"
ATTACH;FMTTYPE=image/jpeg:https://gemeinsamleben-fulda.de/wp-content/uploads/2024/11/IMG_5838.jpeg
ORGANIZER;CN="Beratungsstelle 'Keine Grenzen'":MAILTO:beratung@gemeinsamleben-fulda.de
END:VEVENT
END:VCALENDAR