BEGIN:VCALENDAR
VERSION:2.0
PRODID:-//Gemeinsam Leben - Gemeinsam Lernen e.V. - ECPv6.15.20//NONSGML v1.0//EN
CALSCALE:GREGORIAN
METHOD:PUBLISH
X-ORIGINAL-URL:https://gemeinsamleben-fulda.de
X-WR-CALDESC:Veranstaltungen für Gemeinsam Leben - Gemeinsam Lernen e.V.
REFRESH-INTERVAL;VALUE=DURATION:PT1H
X-Robots-Tag:noindex
X-PUBLISHED-TTL:PT1H
BEGIN:VTIMEZONE
TZID:Europe/Berlin
BEGIN:DAYLIGHT
TZOFFSETFROM:+0100
TZOFFSETTO:+0200
TZNAME:CEST
DTSTART:20250330T010000
END:DAYLIGHT
BEGIN:STANDARD
TZOFFSETFROM:+0200
TZOFFSETTO:+0100
TZNAME:CET
DTSTART:20251026T010000
END:STANDARD
BEGIN:DAYLIGHT
TZOFFSETFROM:+0100
TZOFFSETTO:+0200
TZNAME:CEST
DTSTART:20260329T010000
END:DAYLIGHT
BEGIN:STANDARD
TZOFFSETFROM:+0200
TZOFFSETTO:+0100
TZNAME:CET
DTSTART:20261025T010000
END:STANDARD
BEGIN:DAYLIGHT
TZOFFSETFROM:+0100
TZOFFSETTO:+0200
TZNAME:CEST
DTSTART:20270328T010000
END:DAYLIGHT
BEGIN:STANDARD
TZOFFSETFROM:+0200
TZOFFSETTO:+0100
TZNAME:CET
DTSTART:20271031T010000
END:STANDARD
END:VTIMEZONE
BEGIN:VEVENT
DTSTART;TZID=Europe/Berlin:20260605T180000
DTEND;TZID=Europe/Berlin:20260605T220000
DTSTAMP:20260423T121444
CREATED:20260407T112435Z
LAST-MODIFIED:20260407T112435Z
UID:10000485-1780682400-1780696800@gemeinsamleben-fulda.de
SUMMARY:Nachtmarkt
DESCRIPTION:  \n\n🌙 Nachtmarkt – shoppen\, chillen & genießen 🌙 \nLust auf einen besonderen Abend? Dann komm zu unserem Nachtmarkt!\nStöbere entspannt durch coole Kleidung\, Schuhe\, Taschen\, Schmuck und Kopfbedeckungen – alles in gemütlicher Atmosphäre und begleitet von DJ‑Sounds. \nDazu gibt es leckere Getränke\, Cocktails und eine Salatbar – perfekt\, um mit Freund*innen abzuhängen\, Neues zu entdecken und den Abend zu genießen.\nDer Eintritt ist frei\, also einfach vorbeikommen und Spaß haben! \n✨ Du möchtest selbst einen Stand machen? ✨\nAlle Infos zur Anmeldung und zu den Bedingungen findest du im News‑Beitrag. \nWir freuen uns auf einen gemeinsamen\, lebendigen Abend mit euch!
URL:https://gemeinsamleben-fulda.de/event/nachtmarkt/
LOCATION:Geschäftsstelle von Gemeinsam Leben – Gemeinsam Lernen e.V. Künzell\, Liedeweg 65\, Künzell\, 36093\, Germany
CATEGORIES:Veranstaltung
ATTACH;FMTTYPE=application/pdf:https://gemeinsamleben-fulda.de/wp-content/uploads/2026/04/Plakat-Nachtmarkt-1-2.pdf
ORGANIZER;CN="Gemeinsam Leben - Gemeinsam Lernen e.V.":MAILTO:info@gemeinsamleben-fulda.de
END:VEVENT
END:VCALENDAR