BEGIN:VCALENDAR
VERSION:2.0
PRODID:-//Gemeinsam Leben - Gemeinsam Lernen e.V. - ECPv6.15.20//NONSGML v1.0//EN
CALSCALE:GREGORIAN
METHOD:PUBLISH
X-WR-CALNAME:Gemeinsam Leben - Gemeinsam Lernen e.V.
X-ORIGINAL-URL:https://gemeinsamleben-fulda.de
X-WR-CALDESC:Veranstaltungen für Gemeinsam Leben - Gemeinsam Lernen e.V.
REFRESH-INTERVAL;VALUE=DURATION:PT1H
X-Robots-Tag:noindex
X-PUBLISHED-TTL:PT1H
BEGIN:VTIMEZONE
TZID:Europe/Berlin
BEGIN:DAYLIGHT
TZOFFSETFROM:+0100
TZOFFSETTO:+0200
TZNAME:CEST
DTSTART:20250330T010000
END:DAYLIGHT
BEGIN:STANDARD
TZOFFSETFROM:+0200
TZOFFSETTO:+0100
TZNAME:CET
DTSTART:20251026T010000
END:STANDARD
BEGIN:DAYLIGHT
TZOFFSETFROM:+0100
TZOFFSETTO:+0200
TZNAME:CEST
DTSTART:20260329T010000
END:DAYLIGHT
BEGIN:STANDARD
TZOFFSETFROM:+0200
TZOFFSETTO:+0100
TZNAME:CET
DTSTART:20261025T010000
END:STANDARD
BEGIN:DAYLIGHT
TZOFFSETFROM:+0100
TZOFFSETTO:+0200
TZNAME:CEST
DTSTART:20270328T010000
END:DAYLIGHT
BEGIN:STANDARD
TZOFFSETFROM:+0200
TZOFFSETTO:+0100
TZNAME:CET
DTSTART:20271031T010000
END:STANDARD
END:VTIMEZONE
BEGIN:VEVENT
DTSTART;VALUE=DATE:20260420
DTEND;VALUE=DATE:20260425
DTSTAMP:20260422T021053
CREATED:20251008T073647Z
LAST-MODIFIED:20251028T132953Z
UID:10000068-1776643200-1777075199@gemeinsamleben-fulda.de
SUMMARY:Freizeit: Stuttgart
DESCRIPTION:Cityflair\, Kultur und Spaß – komm mit uns auf einen gemeinsamen Städtetrip nach Stuttgart!\nMach dich bereit für einen unvergesslichen Urlaub zwischen Altstadt und Großstadtflair! \nDie Ferienwohnung in Esslingen ist der perfekte Startpunkt. Wir erkunden die romantische Altstadt von Esslingen mit ihren mittelalterlichen Gassen\, genießen das pulsierende Stadtleben in Stuttgart und entdecken Highlights wie das Porsche Museum\, die Wilhelma oder das bunte Stuttgarter Frühlingsfest – eines der größten Frühlingsfeste Europas! \nInfos:\nUnterkunft: Second Home Stuttgart \nAlter: ab 18 Jahren \nAnzahl Plätze: 8 Plätze (nur bedingt rollstuhlgeeignet) \nReisekosten:\n635€ Teilnehmerbeitrag \nca. 770€ Betreuungskosten \nBetreuungskosten können über bewilligte Pflege-/ Eingliederungshilfeleistungen oder als Selbstzahler abgerechnet werden. \nHier geht es zu unserem Reiseflyer
URL:https://gemeinsamleben-fulda.de/event/urlaubsreise-nach-stuttgart/
LOCATION:Stuttgart\, Olgastraße 20\, Esslingen\, 73728
CATEGORIES:Ferienfreizeit
ATTACH;FMTTYPE=image/jpeg:https://gemeinsamleben-fulda.de/wp-content/uploads/2025/10/stuttgart-354557_1280.jpg
ORGANIZER;CN="Gemeinsam Leben - Gemeinsam Lernen e.V.":MAILTO:info@gemeinsamleben-fulda.de
END:VEVENT
BEGIN:VEVENT
DTSTART;TZID=Europe/Berlin:20260422T180000
DTEND;TZID=Europe/Berlin:20260422T200000
DTSTAMP:20260422T021053
CREATED:20260325T080448Z
LAST-MODIFIED:20260325T080448Z
UID:10000484-1776880800-1776888000@gemeinsamleben-fulda.de
SUMMARY:Keine Grenzen: Vortrag „Was passiert mit der Volljährigkeit?"
DESCRIPTION:Der Übergang ins Erwachsenenalter bringt für viele Familien wichtige Veränderungen mit sich – besonders dann\, wenn Unterstützung weiterhin notwendig ist. Mit dem 18. Geburtstag endet die Vormundschaft – doch was bedeutet das konkret\, und welche Schritte sind nun erforderlich?\nIn dieser Informationsveranstaltung erhalten Sie einen verständlichen Überblick darüber\, was mit Eintritt der Volljährigkeit zu beachten ist. Es wird erläutert\, wann und wie eine rechtliche Betreuung beantragt werden kann\, welche Formen es gibt und welche Aufgaben damit verbunden sind.\nDarüber hinaus erfahren Sie\, welche Möglichkeiten der Unterstützung es für ehrenamtliche Betreuerinnen und Betreuer gibt und an wen Sie sich bei Fragen wenden können.\nDie Beratungsstelle „Keine Grenzen“ lädt\, gemeinsam mit der Referentin Ingrid Michel und ihrem Kollegen David Hofmann vom VdK\, zu einem informativen Austausch ein. \nDa der Raum nur eine begrenzte Zahl an Plätzen hat\, wird um Anmeldung gebeten (unter 0661 480177930 oder beratung@gemeinsamleben-fulda.de). Bei der Anmeldung können bereits Fragen mit angegeben werden. Diese leiten wir an Frau Schöppner weiter\, sodass Sie in ihrem Vortrag darauf eingehen kann. \nDie Beratungsstelle „Keine Grenzen“ freut sich auf Ihr Kommen!
URL:https://gemeinsamleben-fulda.de/event/keine-grenzen-vortrag-was-passiert-mit-der-volljaehrigkeit/
LOCATION:Geschäftsstelle von Gemeinsam Leben – Gemeinsam Lernen e.V. Künzell\, Liedeweg 65\, Künzell\, 36093\, Germany
CATEGORIES:Beratungsstelle "Keine Grenzen"
ATTACH;FMTTYPE=image/png:https://gemeinsamleben-fulda.de/wp-content/uploads/2026/01/Bild-Kalender-Homepage-Vortraege-Keine-Grenzen.png
ORGANIZER;CN="Beratungsstelle 'Keine Grenzen'":MAILTO:beratung@gemeinsamleben-fulda.de
END:VEVENT
END:VCALENDAR